BEGIN:VCALENDAR
VERSION:2.0
PRODID:-//greatkminor.com - ECPv6.6.4//NONSGML v1.0//EN
CALSCALE:GREGORIAN
METHOD:PUBLISH
X-WR-CALNAME:greatkminor.com
X-ORIGINAL-URL:https://greatkminor.com
X-WR-CALDESC:Events for greatkminor.com
REFRESH-INTERVAL;VALUE=DURATION:PT1H
X-Robots-Tag:noindex
X-PUBLISHED-TTL:PT1H
BEGIN:VTIMEZONE
TZID:UTC
BEGIN:STANDARD
TZOFFSETFROM:+0000
TZOFFSETTO:+0000
TZNAME:UTC
DTSTART:20240101T000000
END:STANDARD
END:VTIMEZONE
BEGIN:VEVENT
DTSTART;TZID=UTC:20240826T080000
DTEND;TZID=UTC:20240826T170000
DTSTAMP:20260423T061402
CREATED:20240911T202141Z
LAST-MODIFIED:20240912T085019Z
UID:2781-1724659200-1724691600@greatkminor.com
SUMMARY:Plugin United Kingdom
DESCRIPTION:
URL:https://greatkminor.com/event/plugin-united-kingdom/
LOCATION:City of David\, City of David Snodhurst Bottom\, Walderslade Road. Chatham ME5 OLU.\, United Kingdom
ATTACH;FMTTYPE=image/png:https://greatkminor.com/wp-content/uploads/2024/09/IMG_9822-edited.png
END:VEVENT
END:VCALENDAR