BEGIN:VCALENDAR
VERSION:2.0
PRODID:-//greatkminor.com - ECPv6.6.4//NONSGML v1.0//EN
CALSCALE:GREGORIAN
METHOD:PUBLISH
X-WR-CALNAME:greatkminor.com
X-ORIGINAL-URL:https://greatkminor.com
X-WR-CALDESC:Events for greatkminor.com
REFRESH-INTERVAL;VALUE=DURATION:PT1H
X-Robots-Tag:noindex
X-PUBLISHED-TTL:PT1H
BEGIN:VTIMEZONE
TZID:UTC
BEGIN:STANDARD
TZOFFSETFROM:+0000
TZOFFSETTO:+0000
TZNAME:UTC
DTSTART:20250101T000000
END:STANDARD
END:VTIMEZONE
BEGIN:VEVENT
DTSTART;TZID=UTC:20250101T080000
DTEND;TZID=UTC:20250112T170000
DTSTAMP:20260422T234821
CREATED:20250228T222552Z
LAST-MODIFIED:20250228T222552Z
UID:3568-1735718400-1736701200@greatkminor.com
SUMMARY:12 DAYS OF GLORY - ANOINTING FOR CONQUEST
DESCRIPTION:
URL:https://greatkminor.com/event/12-days-of-glory-anointing-for-conquest/
LOCATION:City of David\, City of David Snodhurst Bottom\, Walderslade Road. Chatham ME5 OLU.\, United Kingdom
ATTACH;FMTTYPE=image/jpeg:https://greatkminor.com/wp-content/uploads/2025/02/IMG-20250218-WA0043.jpg
END:VEVENT
END:VCALENDAR