BEGIN:VCALENDAR
VERSION:2.0
PRODID:-//greatkminor.com - ECPv6.6.4//NONSGML v1.0//EN
CALSCALE:GREGORIAN
METHOD:PUBLISH
X-ORIGINAL-URL:https://greatkminor.com
X-WR-CALDESC:Events for greatkminor.com
REFRESH-INTERVAL;VALUE=DURATION:PT1H
X-Robots-Tag:noindex
X-PUBLISHED-TTL:PT1H
BEGIN:VTIMEZONE
TZID:UTC
BEGIN:STANDARD
TZOFFSETFROM:+0000
TZOFFSETTO:+0000
TZNAME:UTC
DTSTART:20240101T000000
END:STANDARD
END:VTIMEZONE
BEGIN:VEVENT
DTSTART;TZID=UTC:20240602T080000
DTEND;TZID=UTC:20240622T170000
DTSTAMP:20260423T104832
CREATED:20240912T090248Z
LAST-MODIFIED:20240912T090248Z
UID:2831-1717315200-1719075600@greatkminor.com
SUMMARY:(21 DAYS OF PRAYER & FASTING) IN THE DAYS OF HIS POWER
DESCRIPTION:
URL:https://greatkminor.com/event/21-days-of-prayer-fasting-in-the-days-of-his-power/
LOCATION:City of David\, City of David Snodhurst Bottom\, Walderslade Road. Chatham ME5 OLU.\, United Kingdom
ATTACH;FMTTYPE=image/png:https://greatkminor.com/wp-content/uploads/2024/09/IMG_9230.png
END:VEVENT
END:VCALENDAR